BEGIN:VCALENDAR
VERSION:2.0
PRODID:-//eventon.com NONSGML v1.0//EN
CALSCALE:GREGORIAN
METHOD:PUBLISH
BEGIN:VEVENT
UID:69ecf18573c8a
DTSTAMP:20260425T165325Z
DTSTART:20260116T173000Z
DTEND:20260116T183000Z
LOCATION:Cine General Urquiza 25 de mayo 1849
SUMMARY:TOM Y JERRY\,  LA BRÚJULA MÁGICA
DESCRIPTION:\nhttps://sanjose.tur.ar/events/tom-y-jerry-la-brujula-magica/
URL:https://sanjose.tur.ar/events/tom-y-jerry-la-brujula-magica/
END:VEVENT
END:VCALENDAR