BEGIN:VCALENDAR
VERSION:2.0
PRODID:-//eventon.com NONSGML v1.0//EN
CALSCALE:GREGORIAN
METHOD:PUBLISH
BEGIN:VEVENT
UID:69eceba9d810d
DTSTAMP:20260425T162825Z
DTSTART:20250926T150000Z
DTEND:20250926T180000Z
LOCATION:Palacio San José Ruta Provincial N39 km 128\,  desvió al Norte 3km
SUMMARY:MUSEO Y LECTURA EN PRIMAVERA
DESCRIPTION:\nhttps://sanjose.tur.ar/events/museo-y-lectura-en-primavera/
URL:https://sanjose.tur.ar/events/museo-y-lectura-en-primavera/
END:VEVENT
END:VCALENDAR