BEGIN:VCALENDAR
VERSION:2.0
PRODID:-//eventon.com NONSGML v1.0//EN
CALSCALE:GREGORIAN
METHOD:PUBLISH
BEGIN:VEVENT
UID:69ececbc93f04
DTSTAMP:20260425T163300Z
DTSTART:20250123T083000Z
DTEND:20250123T180000Z
LOCATION:Palacio San José Ruta Provincial N39 km 128\,  desvió al Norte 3km
SUMMARY:Visitas guiadas en el Palacio San José
DESCRIPTION:&nbsp; &nbsp; &nbsp;\nhttps://sanjose.tur.ar/events/visitas-gui
 adas-en-el-palacio-san-jose/
URL:https://sanjose.tur.ar/events/visitas-guiadas-en-el-palacio-san-jose/
END:VEVENT
END:VCALENDAR